BEGIN:VCALENDAR
VERSION:2.0
PRODID:-//85.13.139.145//NONSGML kigkonsult.se iCalcreator 2.20//
CALSCALE:GREGORIAN
METHOD:PUBLISH
X-WR-TIMEZONE:UTC
BEGIN:VEVENT
UID:event2@SängerLust Harthausen
DTSTAMP:20260419T163200Z
CATEGORIES:Konzerte
DESCRIPTION:Adventskonzert\nKategorie: Konzerte\nICS-Link: http://saengerlu
 st-harthausen.de/index.php?option=com_jem&view=event&id=2:adventskonzert\n
DTSTART:20231203T170000Z
DTEND:20231203T170000Z
LOCATION:Kath. Kirche St. Josef\,Jahnstr. 35\,70794 Filderstadt-Harthausen
SUMMARY:Adventskonzert
URL:http://saengerlust-harthausen.de/index.php?option=com_jem&view=event&id
 =2:adventskonzert
END:VEVENT
END:VCALENDAR